BEGIN:VCALENDAR
VERSION:2.0
PRODID:-//troutlakenaturecenter.com//NONSGML kigkonsult.se iCalcreator 2.30
 .10//
CALSCALE:GREGORIAN
METHOD:PUBLISH
UID:b8266ac4-a71c-4fea-95e3-91542d246129
X-WR-CALDESC:Dr. Vliet\, alligator researcher from the University of Florid
 a will share his insight into gators and their behavior based on his many 
 years of research.
X-WR-RELCALID:56cb330aa12172e6e9ca11e07cf0400b
X-WR-TIMEZONE:America/New_York
BEGIN:VTIMEZONE
TZID:America/New_York
BEGIN:STANDARD
TZNAME:EST
DTSTART:20211107T020000
TZOFFSETFROM:-0400
TZOFFSETTO:-0500
RDATE:20221106T020000
RDATE:20231105T020000
END:STANDARD
BEGIN:DAYLIGHT
TZNAME:EDT
DTSTART:20220313T020000
TZOFFSETFROM:-0500
TZOFFSETTO:-0400
RDATE:20230312T020000
RDATE:20240310T020000
END:DAYLIGHT
END:VTIMEZONE
BEGIN:VEVENT
UID:5df3a4de-2edc-4cae-9594-d90ce5cf966f
DTSTAMP:20260420T103047Z
DESCRIPTION:Dr. Vliet\, alligator researcher from the University of Florida
  will share his insight into gators and their behavior based on his many y
 ears of research.
DTSTART;TZID=America/New_York:20220916T183000
DTEND;TZID=America/New_York:20220916T193000
LOCATION:520 East CR 44\, Eustis\, FL 32736-2518 US
SUMMARY:Friday Night Naturalist:  All about Gators
END:VEVENT
END:VCALENDAR
