BEGIN:VCALENDAR
VERSION:2.0
PRODID:-//troutlakenaturecenter.com//NONSGML kigkonsult.se iCalcreator 2.30
 .10//
CALSCALE:GREGORIAN
METHOD:PUBLISH
UID:cd8deabc-609f-4044-bad5-c3326ea57390
X-WR-CALDESC:Every Wednesday morning instructor Nancy LaPointe guides parti
 cipants through gentle chair and standing yoga. Held indoors with physical
  distancing. Please bring a mat to stabilize feet\, no special clothing is
  required. $5 fee to support TLNC.
X-WR-RELCALID:457e114aceaeedede480f36502245346
X-WR-TIMEZONE:America/Chicago
BEGIN:VTIMEZONE
TZID:America/Chicago
BEGIN:STANDARD
TZNAME:CST
DTSTART:20211107T020000
TZOFFSETFROM:-0500
TZOFFSETTO:-0600
RDATE:20221106T020000
RDATE:20231105T020000
END:STANDARD
BEGIN:DAYLIGHT
TZNAME:CDT
DTSTART:20220313T020000
TZOFFSETFROM:-0600
TZOFFSETTO:-0500
RDATE:20230312T020000
RDATE:20240310T020000
END:DAYLIGHT
END:VTIMEZONE
BEGIN:VEVENT
UID:e92ce614-cf07-43bc-a912-85deb295ad1e
DTSTAMP:20260422T083953Z
DESCRIPTION:Every Wednesday morning instructor Nancy LaPointe guides partic
 ipants through gentle chair and standing yoga. Held indoors with physical 
 distancing. Please bring a mat to stabilize feet\, no special clothing is 
 required. $5 fee to support TLNC.
DTSTART;TZID=America/Chicago:20221012T100000
DTEND;TZID=America/Chicago:20221012T110000
LOCATION:
SUMMARY:CHAIR YOGA WEDNESDAY MORNINGS
END:VEVENT
END:VCALENDAR
