BEGIN:VCALENDAR
VERSION:2.0
PRODID:-//troutlakenaturecenter.com//NONSGML kigkonsult.se iCalcreator 2.30
 .10//
CALSCALE:GREGORIAN
METHOD:PUBLISH
UID:1d746465-dab7-4fcd-bd3a-11c88c49bb82
X-WR-CALDESC:Staff from the Lake-Sumter State College will be coming to TLN
 C to volunteer. Annually these volunteers have come to help out at the Cen
 ter and make a great difference.
X-WR-RELCALID:20f890cf2afb8f290a6d8d046bf053b4
X-WR-TIMEZONE:America/New_York
BEGIN:VTIMEZONE
TZID:America/New_York
BEGIN:STANDARD
TZNAME:EST
DTSTART:20211107T020000
TZOFFSETFROM:-0400
TZOFFSETTO:-0500
RDATE:20221106T020000
RDATE:20231105T020000
END:STANDARD
BEGIN:DAYLIGHT
TZNAME:EDT
DTSTART:20220313T020000
TZOFFSETFROM:-0500
TZOFFSETTO:-0400
RDATE:20230312T020000
RDATE:20240310T020000
END:DAYLIGHT
END:VTIMEZONE
BEGIN:VEVENT
UID:eacba670-d6dc-46cb-8267-473fa40fae9e
DTSTAMP:20260420T102401Z
DESCRIPTION:Staff from the Lake-Sumter State College will be coming to TLNC
  to volunteer. Annually these volunteers have come to help out at the Cent
 er and make a great difference.
DTSTART;TZID=America/New_York:20221021T090000
DTEND;TZID=America/New_York:20221021T120000
LOCATION:Trout Lake Nature Center\, 520 East CR 44\, Eustis
SUMMARY:Lake-Sumter State College Volunteer Day
END:VEVENT
END:VCALENDAR
