BEGIN:VCALENDAR
VERSION:2.0
PRODID:-//troutlakenaturecenter.com//NONSGML kigkonsult.se iCalcreator 2.30
 .10//
CALSCALE:GREGORIAN
METHOD:PUBLISH
UID:87d54f75-6a49-45c6-81f6-6d6bd0404aec
X-WR-CALDESC:Every Wednesday morning instructor Nancy LaPointe guides parti
 cipants through gentle chair and standing yoga. Held indoors with physical
  distancing. Please bring a mat to stabilize feet\, no special clothing is
  required. $5 fee to support TLNC.
X-WR-RELCALID:92e72ee16885b96b0b87b7e5f8f8d8ea
X-WR-TIMEZONE:America/Chicago
BEGIN:VTIMEZONE
TZID:America/Chicago
BEGIN:STANDARD
TZNAME:CST
DTSTART:20221106T020000
TZOFFSETFROM:-0500
TZOFFSETTO:-0600
RDATE:20231105T020000
END:STANDARD
BEGIN:DAYLIGHT
TZNAME:CDT
DTSTART:20220313T020000
TZOFFSETFROM:-0600
TZOFFSETTO:-0500
RDATE:20230312T020000
RDATE:20240310T020000
END:DAYLIGHT
END:VTIMEZONE
BEGIN:VEVENT
UID:dac9f524-6531-4e15-9669-1741a452f2b6
DTSTAMP:20260422T084843Z
DESCRIPTION:Every Wednesday morning instructor Nancy LaPointe guides partic
 ipants through gentle chair and standing yoga. Held indoors with physical 
 distancing. Please bring a mat to stabilize feet\, no special clothing is 
 required. $5 fee to support TLNC.
DTSTART;TZID=America/Chicago:20221109T100000
DTEND;TZID=America/Chicago:20221109T110000
LOCATION:
SUMMARY:CHAIR YOGA WEDNESDAY MORNINGS
END:VEVENT
END:VCALENDAR
