BEGIN:VCALENDAR
VERSION:2.0
PRODID:-//troutlakenaturecenter.com//NONSGML kigkonsult.se iCalcreator 2.30
 .10//
CALSCALE:GREGORIAN
METHOD:PUBLISH
UID:0c94de3d-b2ed-4e9b-9640-e2656e4bc5b9
X-WR-CALDESC:Each month TLNC invites various scientists\, nature lovers\, s
 torytellers and environmentalist to speak on a wide variety of topics. Alt
 hough some topics appeal more to adults\, children are always welcome. TLN
 C does charge a $5/vehicle entry fee to all non-TLNC members.
X-WR-RELCALID:adecf0104297b0b6a37c050ea22ef551
X-WR-TIMEZONE:America/New_York
BEGIN:VTIMEZONE
TZID:America/New_York
BEGIN:STANDARD
TZNAME:EST
DTSTART:20221106T020000
TZOFFSETFROM:-0400
TZOFFSETTO:-0500
RDATE:20231105T020000
RDATE:20241103T020000
END:STANDARD
BEGIN:DAYLIGHT
TZNAME:EDT
DTSTART:20230312T020000
TZOFFSETFROM:-0500
TZOFFSETTO:-0400
RDATE:20240310T020000
RDATE:20250309T020000
END:DAYLIGHT
END:VTIMEZONE
BEGIN:VEVENT
UID:97a00bbe-c6ed-47d2-a22e-d3ef8b37415b
DTSTAMP:20260421T084133Z
DESCRIPTION:Each month TLNC invites various scientists\, nature lovers\, st
 orytellers and environmentalist to speak on a wide variety of topics. Alth
 ough some topics appeal more to adults\, children are always welcome. TLNC
  does charge a $5/vehicle entry fee to all non-TLNC members.
DTSTART;TZID=America/New_York:20231020T183000
DTEND;TZID=America/New_York:20231020T193000
LOCATION:520 CR 44
SUMMARY:Friday Night Naturalist
END:VEVENT
END:VCALENDAR
