BEGIN:VCALENDAR
VERSION:2.0
PRODID:-//troutlakenaturecenter.com//NONSGML kigkonsult.se iCalcreator 2.30
 .10//
CALSCALE:GREGORIAN
METHOD:PUBLISH
UID:39b4472c-6842-4246-be1d-6a4a7788f93e
X-WR-CALDESC:This program is designed for 2 to 5 year olds to have a positi
 ve experience in nature when accompanied by an adult. You MUST register by
  emailing TLNC.info@gmail.com or calling 352-357-7536 to be sure enough su
 pplies are available for all children participating. Dress your child in p
 lay clothes and plan for him/her to get dirty. We may be digging in the so
 il\, finding bugs\, learning about flowers or hiking in the woods.
X-WR-RELCALID:cf1fb744cf2c0adb78d09e2d40328dc2
X-WR-TIMEZONE:America/New_York
BEGIN:VTIMEZONE
TZID:America/New_York
BEGIN:STANDARD
TZNAME:EST
DTSTART:20241103T020000
TZOFFSETFROM:-0400
TZOFFSETTO:-0500
RDATE:20251102T020000
END:STANDARD
BEGIN:DAYLIGHT
TZNAME:EDT
DTSTART:20250309T020000
TZOFFSETFROM:-0500
TZOFFSETTO:-0400
RDATE:20260308T020000
END:DAYLIGHT
END:VTIMEZONE
BEGIN:VEVENT
UID:220f6477-15a5-4f3f-84aa-bb5c41fe2d07
DTSTAMP:20260422T084306Z
DESCRIPTION:This program is designed for 2 to 5 year olds to have a positiv
 e experience in nature when accompanied by an adult. You MUST register by 
 emailing TLNC.info@gmail.com or calling 352-357-7536 to be sure enough sup
 plies are available for all children participating. Dress your child in pl
 ay clothes and plan for him/her to get dirty. We may be digging in the soi
 l\, finding bugs\, learning about flowers or hiking in the woods.
DTSTART;TZID=America/New_York:20250326T103000
DTEND;TZID=America/New_York:20250326T113000
LOCATION:
SUMMARY:Nature Sprouts for 2 to 5 year olds
END:VEVENT
END:VCALENDAR
