BEGIN:VCALENDAR
VERSION:2.0
PRODID:-//troutlakenaturecenter.com//NONSGML kigkonsult.se iCalcreator 2.30
 .10//
CALSCALE:GREGORIAN
METHOD:PUBLISH
UID:69b81e18-889b-4efd-966d-a38c2faf9d22
X-WR-CALDESC:Schoolchildren will be on site for a field trip this day. TLNC
  is still open to the public while the school is on-site\, however\, stude
 nts may be using the buildings and on the trails. Please call (352) 357-75
 36 if you need more information.
X-WR-RELCALID:f8503edd48055cd0c55d5e69cbc67bdf
X-WR-TIMEZONE:America/New_York
BEGIN:VTIMEZONE
TZID:America/New_York
BEGIN:STANDARD
TZNAME:EST
DTSTART:20241103T020000
TZOFFSETFROM:-0400
TZOFFSETTO:-0500
RDATE:20251102T020000
END:STANDARD
BEGIN:DAYLIGHT
TZNAME:EDT
DTSTART:20250309T020000
TZOFFSETFROM:-0500
TZOFFSETTO:-0400
RDATE:20260308T020000
END:DAYLIGHT
END:VTIMEZONE
BEGIN:VEVENT
UID:269d69d0-b3da-45c2-82fe-ca8bf2379f6e
DTSTAMP:20260420T085953Z
DESCRIPTION:Schoolchildren will be on site for a field trip this day. TLNC 
 is still open to the public while the school is on-site\, however\, studen
 ts may be using the buildings and on the trails. Please call (352) 357-753
 6 if you need more information.
DTSTART;TZID=America/New_York:20250327T093000
DTEND;TZID=America/New_York:20250327T133000
LOCATION:520 East CR 44\, Eustis
SUMMARY:School Field Trip
END:VEVENT
END:VCALENDAR
