BEGIN:VCALENDAR
VERSION:2.0
PRODID:-//troutlakenaturecenter.com//NONSGML kigkonsult.se iCalcreator 2.30
 .10//
CALSCALE:GREGORIAN
METHOD:PUBLISH
UID:6d70b058-ba27-420f-ba58-3f2f2bdf6241
X-WR-CALDESC:Members of the Lake Beautyberry Chapter of the Florida Native 
 Plant Society will be available to answer questions and help you with your
  selection. Over 45 native varieties will be available for purchase includ
 ing flowers\, vines\, bushes\, trees\, and more! For more information\, yo
 u can email lakebeautyberry@gmail.com\, or visit https://www.lakebeautyber
 ry.fnpschapters.org/.
X-WR-RELCALID:807a0e946f2f0f98210645b2cf71e668
X-WR-TIMEZONE:America/New_York
BEGIN:VTIMEZONE
TZID:America/New_York
BEGIN:STANDARD
TZNAME:EST
DTSTART:20241103T020000
TZOFFSETFROM:-0400
TZOFFSETTO:-0500
RDATE:20251102T020000
END:STANDARD
BEGIN:DAYLIGHT
TZNAME:EDT
DTSTART:20250309T020000
TZOFFSETFROM:-0500
TZOFFSETTO:-0400
RDATE:20260308T020000
END:DAYLIGHT
END:VTIMEZONE
BEGIN:VEVENT
UID:bd2d9029-fe97-44fd-88ff-d043dc3e78df
DTSTAMP:20260420T090133Z
DESCRIPTION:Members of the Lake Beautyberry Chapter of the Florida Native P
 lant Society will be available to answer questions and help you with your 
 selection. Over 45 native varieties will be available for purchase includi
 ng flowers\, vines\, bushes\, trees\, and more! For more information\, you
  can email lakebeautyberry@gmail.com\, or visit https://www.lakebeautyberr
 y.fnpschapters.org/.
DTSTART;TZID=America/New_York:20250412T100000
DTEND;TZID=America/New_York:20250412T120000
LOCATION:W.T. Bland Public Library\, 1995 N Donnelly Stree\, Mt. Dora\, FL 
 32757 US
SUMMARY:Florida Native Plant Sale
END:VEVENT
END:VCALENDAR
