BEGIN:VCALENDAR
VERSION:2.0
PRODID:-//troutlakenaturecenter.com//NONSGML kigkonsult.se iCalcreator 2.30
 .10//
CALSCALE:GREGORIAN
METHOD:PUBLISH
UID:d660dbae-73dc-499a-adbb-f08710aacc71
X-WR-CALDESC:Bill Dodd  has been carving decorative decoys for 56 years\, s
 tarting with a knife\, a chisel and a draw knife.  However\, over the year
 s\, Bill has graduated to power tools.\n\n     Join Dodd for this introduc
 tory workshop to anyone interested in trying their hand at carving and pai
 nting a feather pin.  The cost of the class includes the purchase of a rot
 ary carving tool and materials needed. You will need to come with an apron
  (to keep the sawdust off you) and safety glasses. A dust mask will be pro
 vided. The cost of the class is $80.00.\n\n    Registration cuts off on Fe
 bruary 18th due to ordering supplies for participants.   \n
X-WR-RELCALID:391e2ed80ce92ebc7005b29104df586f
X-WR-TIMEZONE:America/New_York
BEGIN:VTIMEZONE
TZID:America/New_York
BEGIN:STANDARD
TZNAME:EST
DTSTART:20251102T020000
TZOFFSETFROM:-0400
TZOFFSETTO:-0500
RDATE:20261101T020000
END:STANDARD
BEGIN:DAYLIGHT
TZNAME:EDT
DTSTART:20250309T020000
TZOFFSETFROM:-0500
TZOFFSETTO:-0400
RDATE:20260308T020000
RDATE:20270314T020000
END:DAYLIGHT
END:VTIMEZONE
BEGIN:VEVENT
UID:b7f1cf27-4676-4167-9d3a-498e4f2e7dc2
DTSTAMP:20260423T042756Z
DESCRIPTION:Bill Dodd  has been carving decorative decoys for 56 years\, st
 arting with a knife\, a chisel and a draw knife.  However\, over the years
 \, Bill has graduated to power tools.\n\n     Join Dodd for this introduct
 ory workshop to anyone interested in trying their hand at carving and pain
 ting a feather pin.  The cost of the class includes the purchase of a rota
 ry carving tool and materials needed. You will need to come with an apron 
 (to keep the sawdust off you) and safety glasses. A dust mask will be prov
 ided. The cost of the class is $80.00.\n\n    Registration cuts off on Feb
 ruary 18th due to ordering supplies for participants.   \n
DTSTART;TZID=America/New_York:20260228T100000
DTEND;TZID=America/New_York:20260228T130000
LOCATION:520 East CR 44\, Eustis\, FL 32736 US
SUMMARY:Wood Carving Workshop
END:VEVENT
END:VCALENDAR
