BEGIN:VCALENDAR
VERSION:2.0
PRODID:-//troutlakenaturecenter.com//NONSGML kigkonsult.se iCalcreator 2.30
 .10//
CALSCALE:GREGORIAN
METHOD:PUBLISH
UID:20ac55c3-6173-483a-b6f8-d2f5ee0b4445
X-WR-CALDESC:Trout Lake Nature Center offers a different way of seeing—slow
 ing down long enough to notice form\, light\, and movement\, and then tran
 slating that experience to paper.\n\nEach class draws from Florida’s nativ
 e landscapes and species—feather\, water\, shadow\, and structure—inviting
  participants to observe closely and paint what is often overlooked. Instr
 uction is step-by-step\, materials are provided\, and the process is acces
 sible regardless of experience level. Held inside the education center and
  surrounded by native habitat\, the setting becomes part of the practice. 
 What is seen outside informs what takes shape on the page.\n \nJoin expert
  instructor and artist Ellen Westerholm as she guides you through painting
  your own owl. Cost is $50/person with all painting materials being suppli
 ed. If you have attended a painting class before\, please bring any leftov
 er paints\, brushes\, or markers to help us walk our environmental talk. T
 his class is for adults.
X-WR-RELCALID:0aa49ec81b0236239bc36e1708cdfb99
X-WR-TIMEZONE:America/New_York
BEGIN:VTIMEZONE
TZID:America/New_York
BEGIN:STANDARD
TZNAME:EST
DTSTART:20251102T020000
TZOFFSETFROM:-0400
TZOFFSETTO:-0500
RDATE:20261101T020000
END:STANDARD
BEGIN:DAYLIGHT
TZNAME:EDT
DTSTART:20260308T020000
TZOFFSETFROM:-0500
TZOFFSETTO:-0400
RDATE:20270314T020000
END:DAYLIGHT
END:VTIMEZONE
BEGIN:VEVENT
UID:adb74120-87e7-40c6-b49a-f2620ea9ed73
DTSTAMP:20260420T041724Z
DESCRIPTION:Trout Lake Nature Center offers a different way of seeing—slowi
 ng down long enough to notice form\, light\, and movement\, and then trans
 lating that experience to paper.\n\nEach class draws from Florida’s native
  landscapes and species—feather\, water\, shadow\, and structure—inviting 
 participants to observe closely and paint what is often overlooked. Instru
 ction is step-by-step\, materials are provided\, and the process is access
 ible regardless of experience level. Held inside the education center and 
 surrounded by native habitat\, the setting becomes part of the practice. W
 hat is seen outside informs what takes shape on the page.\n \nJoin expert 
 instructor and artist Ellen Westerholm as she guides you through painting 
 your own owl. Cost is $50/person with all painting materials being supplie
 d. If you have attended a painting class before\, please bring any leftove
 r paints\, brushes\, or markers to help us walk our environmental talk. Th
 is class is for adults.
DTSTART;TZID=America/New_York:20260411T100000
DTEND;TZID=America/New_York:20260411T120000
LOCATION:520 CR 44\, Eustis\, FL 32736 US
SUMMARY:Inspired by Nature Water Color Painting--Owl
END:VEVENT
END:VCALENDAR
