BEGIN:VCALENDAR
VERSION:2.0
PRODID:-//troutlakenaturecenter.com//NONSGML kigkonsult.se iCalcreator 2.30
 .10//
CALSCALE:GREGORIAN
METHOD:PUBLISH
UID:5f7aa4c5-a073-4ddd-a5ef-4b316a571fa6
X-WR-CALDESC:Swamps are mysterious places that provide a home to many diffe
 rent species of animals and insects. Join expert instructor and artist Ell
 en Westerholm as she guides you through creating a swamp of your own with 
 water colors. Because of the topic and details required to complete this p
 ainting\, class will be 3 hours long instead of the normal 2 hours. Cost i
 s $60/person which includes your entry fee to the facilities. If you have 
 attended a previous water color painting class we ask you to help us walk 
 our environmental talk by bringing back any leftover paints or brushes. Th
 is class is for adults.
X-WR-RELCALID:8364a9ba29c07f9e1b4642107f138f55
X-WR-TIMEZONE:America/New_York
BEGIN:VTIMEZONE
TZID:America/New_York
BEGIN:STANDARD
TZNAME:EST
DTSTART:20251102T020000
TZOFFSETFROM:-0400
TZOFFSETTO:-0500
RDATE:20261101T020000
END:STANDARD
BEGIN:DAYLIGHT
TZNAME:EDT
DTSTART:20260308T020000
TZOFFSETFROM:-0500
TZOFFSETTO:-0400
RDATE:20270314T020000
END:DAYLIGHT
END:VTIMEZONE
BEGIN:VEVENT
UID:1a90dc98-c570-4219-80bb-ce9a93b8b278
DTSTAMP:20260420T041755Z
DESCRIPTION:Swamps are mysterious places that provide a home to many differ
 ent species of animals and insects. Join expert instructor and artist Elle
 n Westerholm as she guides you through creating a swamp of your own with w
 ater colors. Because of the topic and details required to complete this pa
 inting\, class will be 3 hours long instead of the normal 2 hours. Cost is
  $60/person which includes your entry fee to the facilities. If you have a
 ttended a previous water color painting class we ask you to help us walk o
 ur environmental talk by bringing back any leftover paints or brushes. Thi
 s class is for adults.
DTSTART;TZID=America/New_York:20260429T130000
DTEND;TZID=America/New_York:20260429T160000
LOCATION:520 CR 44\, Eustis\, FL 32736 US
SUMMARY:Inspired by Nature Water Color Painting--Swamp
END:VEVENT
END:VCALENDAR
