BEGIN:VCALENDAR
VERSION:2.0
PRODID:-//troutlakenaturecenter.com//NONSGML kigkonsult.se iCalcreator 2.30
 .10//
CALSCALE:GREGORIAN
METHOD:PUBLISH
UID:862d804f-2398-4c2b-9670-f8634af53177
X-WR-CALDESC:This program is designed for 2 to 5-year-olds to have a positi
 ve experience with nature and the outdoors. Children must be accompanied b
 y an adult and should dress for playing outdoors and getting dirty. This m
 onth will be celebrating International Mud Month and your child will get d
 irty.\n     It is held monthly on the fourth Wednesday. TLNC entry fee is 
 $5/vehicle but TLNC members enter for free. \n     Adults are required to 
 register their child by going online to the TLNC website calendar to regis
 ter online. The program is limited to 20 children with their adult(s).\n
X-WR-RELCALID:627a620f4de9c1f45cb691bdbacfa796
X-WR-TIMEZONE:America/New_York
BEGIN:VTIMEZONE
TZID:America/New_York
BEGIN:STANDARD
TZNAME:EST
DTSTART:20251102T020000
TZOFFSETFROM:-0400
TZOFFSETTO:-0500
RDATE:20261101T020000
RDATE:20271107T020000
END:STANDARD
BEGIN:DAYLIGHT
TZNAME:EDT
DTSTART:20260308T020000
TZOFFSETFROM:-0500
TZOFFSETTO:-0400
RDATE:20270314T020000
END:DAYLIGHT
END:VTIMEZONE
BEGIN:VEVENT
UID:e1908b82-214c-414c-867e-fc746669a17a
DTSTAMP:20260422T043656Z
DESCRIPTION:This program is designed for 2 to 5-year-olds to have a positiv
 e experience with nature and the outdoors. Children must be accompanied by
  an adult and should dress for playing outdoors and getting dirty. This mo
 nth will be celebrating International Mud Month and your child will get di
 rty.\n     It is held monthly on the fourth Wednesday. TLNC entry fee is $
 5/vehicle but TLNC members enter for free. \n     Adults are required to r
 egister their child by going online to the TLNC website calendar to regist
 er online. The program is limited to 20 children with their adult(s).\n
DTSTART;TZID=America/New_York:20260624T103000
DTEND;TZID=America/New_York:20260624T113000
LOCATION:520 East CR 44\, Eustis\, FL 32736 US
SUMMARY:June Nature Sprouts - International Mud Month
END:VEVENT
END:VCALENDAR
