BEGIN:VCALENDAR
VERSION:2.0
PRODID:-//troutlakenaturecenter.com//NONSGML kigkonsult.se iCalcreator 2.30
 .10//
CALSCALE:GREGORIAN
METHOD:PUBLISH
UID:4eab0a81-76d0-4e86-bbbb-d221ffa82a2c
X-WR-CALDESC:The Trout Lake Nature Center will be closed for Christmas Eve\
 , Christmas and New Years so our staff and volunteers can enjoy the holida
 ys. TLNC will reopen on December 26 at 9 AM and January 2 at 9 AM for our 
 regular hours.
X-WR-RELCALID:342b9079741fad778aa3aab77e9090b5
X-WR-TIMEZONE:America/New_York
BEGIN:VTIMEZONE
TZID:America/New_York
BEGIN:STANDARD
TZNAME:EST
DTSTART:20251102T020000
TZOFFSETFROM:-0400
TZOFFSETTO:-0500
RDATE:20261101T020000
END:STANDARD
BEGIN:DAYLIGHT
TZNAME:EDT
DTSTART:20250309T020000
TZOFFSETFROM:-0500
TZOFFSETTO:-0400
RDATE:20260308T020000
RDATE:20270314T020000
END:DAYLIGHT
END:VTIMEZONE
BEGIN:VEVENT
UID:541a25ec-7e64-4f25-a53e-55534e8b8b56
DTSTAMP:20260423T042949Z
DESCRIPTION:The Trout Lake Nature Center will be closed for Christmas Eve\,
  Christmas and New Years so our staff and volunteers can enjoy the holiday
 s. TLNC will reopen on December 26 at 9 AM and January 2 at 9 AM for our r
 egular hours.
DTSTART;TZID=America/New_York:20260101T080000
DTEND;TZID=America/New_York:20260101T160000
LOCATION:520 E. County Road 44\, Eustis\, FL 32736 US
SUMMARY:Closed for New Year's Day - Only open for Hike
END:VEVENT
END:VCALENDAR
