BEGIN:VCALENDAR
VERSION:2.0
PRODID:-//troutlakenaturecenter.com//NONSGML kigkonsult.se iCalcreator 2.30
 .10//
CALSCALE:GREGORIAN
METHOD:PUBLISH
UID:fb2afaeb-c09b-4e1c-ac5b-397c31fc73fd
X-WR-CALDESC:Join us at TLNC for a New Year's Day Hike.  Dogs are welcome\,
  but must be on a non-retracting leash. \nEvery year\, we start the first 
 day of the year with a gentle walk along our trails. Join us to begin the 
 day walking with friends and family\, meeting new people and enjoying natu
 re. We believe you should start every year by bringing joy and peace to yo
 ur heart by walking with nature. The walk starts at 9:30 AM and the gate o
 pens at 9 AM. The property is only open for this walk so our staff and vol
 unteers can enjoy New Year's. Well-mannered dogs are welcome.
X-WR-RELCALID:1f84b5a2eb7dabd4b735557c3fef41d6
X-WR-TIMEZONE:America/New_York
BEGIN:VTIMEZONE
TZID:America/New_York
BEGIN:STANDARD
TZNAME:EST
DTSTART:20251102T020000
TZOFFSETFROM:-0400
TZOFFSETTO:-0500
RDATE:20261101T020000
END:STANDARD
BEGIN:DAYLIGHT
TZNAME:EDT
DTSTART:20250309T020000
TZOFFSETFROM:-0500
TZOFFSETTO:-0400
RDATE:20260308T020000
RDATE:20270314T020000
END:DAYLIGHT
END:VTIMEZONE
BEGIN:VEVENT
UID:e761a55a-42a9-4457-b58e-c2eb313cc3f9
DTSTAMP:20260423T042649Z
DESCRIPTION:Join us at TLNC for a New Year's Day Hike.  Dogs are welcome\, 
 but must be on a non-retracting leash. \nEvery year\, we start the first d
 ay of the year with a gentle walk along our trails. Join us to begin the d
 ay walking with friends and family\, meeting new people and enjoying natur
 e. We believe you should start every year by bringing joy and peace to you
 r heart by walking with nature. The walk starts at 9:30 AM and the gate op
 ens at 9 AM. The property is only open for this walk so our staff and volu
 nteers can enjoy New Year's. Well-mannered dogs are welcome.
DTSTART;TZID=America/New_York:20260101T093000
DTEND;TZID=America/New_York:20260101T103000
LOCATION:520 E County Road 44\, Eustis\, FL 32736 US
SUMMARY:First Day Hike
END:VEVENT
END:VCALENDAR
