BEGIN:VCALENDAR
VERSION:2.0
PRODID:-//troutlakenaturecenter.com//NONSGML kigkonsult.se iCalcreator 2.30
 .10//
CALSCALE:GREGORIAN
METHOD:PUBLISH
UID:7a16c223-5d6a-4d5e-9401-eca6a6601756
X-WR-CALDESC:Folk Music Third Saturdays Concert. $7 at the door. The potluc
 k will begin at 7 PM with music at 7:30. Bring a covered dish for the potl
 uck.
X-WR-RELCALID:388ecd23bda03f623e617d7954715dda
X-WR-TIMEZONE:America/New_York
BEGIN:VTIMEZONE
TZID:America/New_York
BEGIN:STANDARD
TZNAME:EST
DTSTART:20251102T020000
TZOFFSETFROM:-0400
TZOFFSETTO:-0500
RDATE:20261101T020000
END:STANDARD
BEGIN:DAYLIGHT
TZNAME:EDT
DTSTART:20250309T020000
TZOFFSETFROM:-0500
TZOFFSETTO:-0400
RDATE:20260308T020000
RDATE:20270314T020000
END:DAYLIGHT
END:VTIMEZONE
BEGIN:VEVENT
UID:e8fa5f7f-4ac7-4f2c-8494-45e3b9d558e4
DTSTAMP:20260423T043100Z
DESCRIPTION:Folk Music Third Saturdays Concert. $7 at the door. The potluck
  will begin at 7 PM with music at 7:30. Bring a covered dish for the potlu
 ck.
DTSTART;TZID=America/New_York:20260117T190000
DTEND;TZID=America/New_York:20260117T213000
LOCATION:520 East CR 44\, Eustis\, FL 32736 US
SUMMARY:FOLK MUSIC CONCERT
END:VEVENT
END:VCALENDAR
