BEGIN:VCALENDAR
VERSION:2.0
PRODID:-//troutlakenaturecenter.com//NONSGML kigkonsult.se iCalcreator 2.30
 .10//
CALSCALE:GREGORIAN
METHOD:PUBLISH
UID:2750b038-1699-4b49-9a13-fa9093fbf014
X-WR-CALDESC:Join local author and early childhood educator Alex Vollman fo
 r this engaging parent workshop. Alex will share how everyday moments in n
 ature through play\, reading\, and hands-on exploration can support your c
 hild’s language\, creativity\, and overall development. Vollman will talk 
 about her writing process and share children’s activities to help deepen a
  child’s understanding of her books and learn about nature. \n     This pr
 ogram is free to attend\; however\, all non-TLNC members are required to p
 ay a $ 5 entry fee per vehicle to access the property. No reservations are
  needed.\n
X-WR-RELCALID:23f3949cb4f5fe7d87e3c449e9505c96
X-WR-TIMEZONE:America/New_York
BEGIN:VTIMEZONE
TZID:America/New_York
BEGIN:STANDARD
TZNAME:EST
DTSTART:20251102T020000
TZOFFSETFROM:-0400
TZOFFSETTO:-0500
RDATE:20261101T020000
END:STANDARD
BEGIN:DAYLIGHT
TZNAME:EDT
DTSTART:20250309T020000
TZOFFSETFROM:-0500
TZOFFSETTO:-0400
RDATE:20260308T020000
RDATE:20270314T020000
END:DAYLIGHT
END:VTIMEZONE
BEGIN:VEVENT
UID:932d5673-3de7-4951-91d1-592adc804a3a
DTSTAMP:20260423T043503Z
DESCRIPTION:Join local author and early childhood educator Alex Vollman for
  this engaging parent workshop. Alex will share how everyday moments in na
 ture through play\, reading\, and hands-on exploration can support your ch
 ild’s language\, creativity\, and overall development. Vollman will talk a
 bout her writing process and share children’s activities to help deepen a 
 child’s understanding of her books and learn about nature. \n     This pro
 gram is free to attend\; however\, all non-TLNC members are required to pa
 y a $ 5 entry fee per vehicle to access the property. No reservations are 
 needed.\n
DTSTART;TZID=America/New_York:20260117T133000
DTEND;TZID=America/New_York:20260117T143000
LOCATION:520 E County Road 4\, Eustis\, AL 32726 US
SUMMARY:Meet the Author: Alexandrea Vollman - Local Author of Children's Na
 ture Books
END:VEVENT
END:VCALENDAR
