BEGIN:VCALENDAR
VERSION:2.0
PRODID:-//troutlakenaturecenter.com//NONSGML kigkonsult.se iCalcreator 2.30
 .10//
CALSCALE:GREGORIAN
METHOD:PUBLISH
UID:036b5c6b-4bee-495b-ade4-0ec2d8812180
X-WR-CALDESC:Join us for Chair Yoga with Nancy. This gentle yoga class is a
  great way to start the day\, stretch your body and improve or maintain yo
 ur flexibility. Cost is $5/session payable to the instructor. Entry fees a
 re waived for this program. Bring a mat\, dress in loose fitting clothes a
 nd join us.
X-WR-RELCALID:181a490e3c7de5f99318089ac4308ad3
X-WR-TIMEZONE:America/New_York
BEGIN:VTIMEZONE
TZID:America/New_York
BEGIN:STANDARD
TZNAME:EST
DTSTART:20251102T020000
TZOFFSETFROM:-0400
TZOFFSETTO:-0500
RDATE:20261101T020000
END:STANDARD
BEGIN:DAYLIGHT
TZNAME:EDT
DTSTART:20250309T020000
TZOFFSETFROM:-0500
TZOFFSETTO:-0400
RDATE:20260308T020000
RDATE:20270314T020000
END:DAYLIGHT
END:VTIMEZONE
BEGIN:VEVENT
UID:4401b615-a406-48a4-a0d1-879984a98064
DTSTAMP:20260423T043055Z
DESCRIPTION:Join us for Chair Yoga with Nancy. This gentle yoga class is a 
 great way to start the day\, stretch your body and improve or maintain you
 r flexibility. Cost is $5/session payable to the instructor. Entry fees ar
 e waived for this program. Bring a mat\, dress in loose fitting clothes an
 d join us.
DTSTART;TZID=America/New_York:20260121T100000
DTEND;TZID=America/New_York:20260121T110000
LOCATION:520 East CR 44\, Eustis\, FL 32736-2518 US
SUMMARY:Chair Yoga
END:VEVENT
END:VCALENDAR
