BEGIN:VCALENDAR
VERSION:2.0
PRODID:-//troutlakenaturecenter.com//NONSGML kigkonsult.se iCalcreator 2.30
 .10//
CALSCALE:GREGORIAN
METHOD:PUBLISH
UID:19bd6663-3776-490e-98dd-e0c97b8293ce
X-WR-CALDESC:Last Saturday of the month.\n     Has your dog been waiting fo
 r cooler weather to join its canine friends for a walk in the woods and a 
 little socialization? Join our Pack Walks. All dogs must be well-behaved\,
  on a 6’ non-retractable lead\, and friendly with other dogs and people. T
 he dog’s person is responsible for picking up and disposing of any deposit
 s left by their dog
X-WR-RELCALID:f6c1d9d2bb4ec2a218f6996ba5804e49
X-WR-TIMEZONE:America/New_York
BEGIN:VTIMEZONE
TZID:America/New_York
BEGIN:STANDARD
TZNAME:EST
DTSTART:20251102T020000
TZOFFSETFROM:-0400
TZOFFSETTO:-0500
RDATE:20261101T020000
END:STANDARD
BEGIN:DAYLIGHT
TZNAME:EDT
DTSTART:20250309T020000
TZOFFSETFROM:-0500
TZOFFSETTO:-0400
RDATE:20260308T020000
RDATE:20270314T020000
END:DAYLIGHT
END:VTIMEZONE
BEGIN:VEVENT
UID:49609302-44ab-445d-9274-fdb6c47fb90e
DTSTAMP:20260423T042642Z
DESCRIPTION:Last Saturday of the month.\n     Has your dog been waiting for
  cooler weather to join its canine friends for a walk in the woods and a l
 ittle socialization? Join our Pack Walks. All dogs must be well-behaved\, 
 on a 6’ non-retractable lead\, and friendly with other dogs and people. Th
 e dog’s person is responsible for picking up and disposing of any deposits
  left by their dog
DTSTART;TZID=America/New_York:20260125T013000
DTEND;TZID=America/New_York:20260125T023000
LOCATION:520 E. County Road 44\, Eustis\, FL 32736 US
SUMMARY:Pack Walk
END:VEVENT
END:VCALENDAR
