BEGIN:VCALENDAR
VERSION:2.0
PRODID:-//troutlakenaturecenter.com//NONSGML kigkonsult.se iCalcreator 2.30
 .10//
CALSCALE:GREGORIAN
METHOD:PUBLISH
UID:ea94983f-f01b-43d4-b473-d1f2c625bc83
X-WR-CALDESC:This group of volunteers provides overall direction to this in
 dependent nonprofit. New volunteers are encouraged to attend or inquire at
  (352) 357-7536.
X-WR-RELCALID:2c9cb7eb4124e8b9e9ec35fda7588555
X-WR-TIMEZONE:America/New_York
BEGIN:VTIMEZONE
TZID:America/New_York
BEGIN:STANDARD
TZNAME:EST
DTSTART:20251102T020000
TZOFFSETFROM:-0400
TZOFFSETTO:-0500
RDATE:20261101T020000
END:STANDARD
BEGIN:DAYLIGHT
TZNAME:EDT
DTSTART:20250309T020000
TZOFFSETFROM:-0500
TZOFFSETTO:-0400
RDATE:20260308T020000
RDATE:20270314T020000
END:DAYLIGHT
END:VTIMEZONE
BEGIN:VEVENT
UID:81a2f174-ed30-42ac-8a2a-d218a782b184
DTSTAMP:20260423T042953Z
DESCRIPTION:This group of volunteers provides overall direction to this ind
 ependent nonprofit. New volunteers are encouraged to attend or inquire at 
 (352) 357-7536.
DTSTART;TZID=America/New_York:20260126T173000
DTEND;TZID=America/New_York:20260126T183000
LOCATION:
SUMMARY:TLNC BOARD MEETING
END:VEVENT
END:VCALENDAR
