BEGIN:VCALENDAR
VERSION:2.0
PRODID:-//troutlakenaturecenter.com//NONSGML kigkonsult.se iCalcreator 2.30
 .10//
CALSCALE:GREGORIAN
METHOD:PUBLISH
UID:a71697ea-567a-4e91-bf45-e13a4ca2bdf6
X-WR-CALDESC:Join expert instructor Ellen Westerholm for this water color p
 ainting class where you will learn to paint a Bunting. This class is for a
 ll ages but more appropriate for older children. Cost is $50/person.
X-WR-RELCALID:a07421f3adeab75f0d7c64706b721bc9
X-WR-TIMEZONE:America/New_York
BEGIN:VTIMEZONE
TZID:America/New_York
BEGIN:STANDARD
TZNAME:EST
DTSTART:20251102T020000
TZOFFSETFROM:-0400
TZOFFSETTO:-0500
RDATE:20261101T020000
END:STANDARD
BEGIN:DAYLIGHT
TZNAME:EDT
DTSTART:20250309T020000
TZOFFSETFROM:-0500
TZOFFSETTO:-0400
RDATE:20260308T020000
RDATE:20270314T020000
END:DAYLIGHT
END:VTIMEZONE
BEGIN:VEVENT
UID:a3c63495-8e15-4bb5-8d69-2318a8e3265c
DTSTAMP:20260423T032134Z
DESCRIPTION:Join expert instructor Ellen Westerholm for this water color pa
 inting class where you will learn to paint a Bunting. This class is for al
 l ages but more appropriate for older children. Cost is $50/person.
DTSTART;TZID=America/New_York:20260207T100000
DTEND;TZID=America/New_York:20260207T120000
LOCATION:520 CR 44\, Eustis\, FL 32736 US
SUMMARY:Inspired by Nature Water Color Painting--Painted Bunting
END:VEVENT
END:VCALENDAR
