BEGIN:VCALENDAR
VERSION:2.0
PRODID:-//troutlakenaturecenter.com//NONSGML kigkonsult.se iCalcreator 2.30
 .10//
CALSCALE:GREGORIAN
METHOD:PUBLISH
UID:e0a78334-84ec-4b70-816b-9ea7cf3c45fa
X-WR-CALDESC:Schoolchildren will be on site for a field trip this day. TLNC
  is still open to the public while the school is on-site\, however\, stude
 nts may be using the buildings and on the trails. Please call (352) 357-75
 36 if you need more information.
X-WR-RELCALID:097932d41ee60d7bfdef24d09f7159fe
X-WR-TIMEZONE:America/New_York
BEGIN:VTIMEZONE
TZID:America/New_York
BEGIN:STANDARD
TZNAME:EST
DTSTART:20251102T020000
TZOFFSETFROM:-0400
TZOFFSETTO:-0500
RDATE:20261101T020000
END:STANDARD
BEGIN:DAYLIGHT
TZNAME:EDT
DTSTART:20250309T020000
TZOFFSETFROM:-0500
TZOFFSETTO:-0400
RDATE:20260308T020000
RDATE:20270314T020000
END:DAYLIGHT
END:VTIMEZONE
BEGIN:VEVENT
UID:dad6ec38-4d8e-4766-aad1-1e6e8b774885
DTSTAMP:20260423T031627Z
DESCRIPTION:Schoolchildren will be on site for a field trip this day. TLNC 
 is still open to the public while the school is on-site\, however\, studen
 ts may be using the buildings and on the trails. Please call (352) 357-753
 6 if you need more information.
DTSTART;TZID=America/New_York:20260224T090000
DTEND;TZID=America/New_York:20260224T143000
LOCATION:520 East CR 44\, Eustis
SUMMARY:School Field Trip
END:VEVENT
END:VCALENDAR
