BEGIN:VCALENDAR
VERSION:2.0
PRODID:-//troutlakenaturecenter.com//NONSGML kigkonsult.se iCalcreator 2.30
 .10//
CALSCALE:GREGORIAN
METHOD:PUBLISH
UID:9c59a948-5f1f-4c2c-9ad9-6e8f55f787d6
X-WR-CALDESC:Schoolchildren will be on site for a field trip this day. TLNC
  is still open to the public while the school is on-site\, however\, stude
 nts may be using the buildings and on the trails. Please call (352) 357-75
 36 if you need more information.
X-WR-RELCALID:d5a21dac9bfb72cf7929b1824e9746c7
X-WR-TIMEZONE:America/New_York
BEGIN:VTIMEZONE
TZID:America/New_York
BEGIN:STANDARD
TZNAME:EST
DTSTART:20251102T020000
TZOFFSETFROM:-0400
TZOFFSETTO:-0500
RDATE:20261101T020000
END:STANDARD
BEGIN:DAYLIGHT
TZNAME:EDT
DTSTART:20250309T020000
TZOFFSETFROM:-0500
TZOFFSETTO:-0400
RDATE:20260308T020000
RDATE:20270314T020000
END:DAYLIGHT
END:VTIMEZONE
BEGIN:VEVENT
UID:afa395e7-ddb2-427b-a023-7c6b88d773b7
DTSTAMP:20260423T031653Z
DESCRIPTION:Schoolchildren will be on site for a field trip this day. TLNC 
 is still open to the public while the school is on-site\, however\, studen
 ts may be using the buildings and on the trails. Please call (352) 357-753
 6 if you need more information.
DTSTART;TZID=America/New_York:20260227T093000
DTEND;TZID=America/New_York:20260227T133000
LOCATION:520 East CR 44\, Eustis
SUMMARY:School Field Trip
END:VEVENT
END:VCALENDAR
