BEGIN:VCALENDAR
VERSION:2.0
PRODID:-//troutlakenaturecenter.com//NONSGML kigkonsult.se iCalcreator 2.30
 .10//
CALSCALE:GREGORIAN
METHOD:PUBLISH
UID:74f9bf9d-da9f-40c3-876f-0ac0c6850cf3
X-WR-CALDESC:More inforamtion to follow.
X-WR-RELCALID:45956850a198be4ae5d9d5731643e200
X-WR-TIMEZONE:America/New_York
BEGIN:VTIMEZONE
TZID:America/New_York
BEGIN:STANDARD
TZNAME:EST
DTSTART:20251102T020000
TZOFFSETFROM:-0400
TZOFFSETTO:-0500
RDATE:20261101T020000
END:STANDARD
BEGIN:DAYLIGHT
TZNAME:EDT
DTSTART:20250309T020000
TZOFFSETFROM:-0500
TZOFFSETTO:-0400
RDATE:20260308T020000
RDATE:20270314T020000
END:DAYLIGHT
END:VTIMEZONE
BEGIN:VEVENT
UID:1549d712-44f6-42e7-8efc-d329d94b9e14
DTSTAMP:20260423T015718Z
DESCRIPTION:More inforamtion to follow.
DTSTART;TZID=America/New_York:20260308T130000
DTEND;TZID=America/New_York:20260308T150000
LOCATION:520 East CR 44\, Eustis\, FL 32736 US
SUMMARY:Sunday Funday: Reptiles
END:VEVENT
END:VCALENDAR
