BEGIN:VCALENDAR
VERSION:2.0
PRODID:-//troutlakenaturecenter.com//NONSGML kigkonsult.se iCalcreator 2.30
 .10//
CALSCALE:GREGORIAN
METHOD:PUBLISH
UID:48a6e1de-1af0-4618-abab-d3e1917b9164
X-WR-CALDESC:Join us for Chair Yoga with Nancy. This gentle yoga class is a
  great way to start the day\, stretch your body and improve or maintain yo
 ur flexibility. Cost is $5/session payable to the instructor. Entry fees a
 re waived for this program. Bring a mat\, dress in loose fitting clothes a
 nd join us.
X-WR-RELCALID:18e6d5d849bd81a3c10990b75900c61a
X-WR-TIMEZONE:America/New_York
BEGIN:VTIMEZONE
TZID:America/New_York
BEGIN:STANDARD
TZNAME:EST
DTSTART:20251102T020000
TZOFFSETFROM:-0400
TZOFFSETTO:-0500
RDATE:20261101T020000
END:STANDARD
BEGIN:DAYLIGHT
TZNAME:EDT
DTSTART:20260308T020000
TZOFFSETFROM:-0500
TZOFFSETTO:-0400
RDATE:20270314T020000
END:DAYLIGHT
END:VTIMEZONE
BEGIN:VEVENT
UID:7619538a-bb4c-4f81-8518-671acba9b7e8
DTSTAMP:20260423T020009Z
DESCRIPTION:Join us for Chair Yoga with Nancy. This gentle yoga class is a 
 great way to start the day\, stretch your body and improve or maintain you
 r flexibility. Cost is $5/session payable to the instructor. Entry fees ar
 e waived for this program. Bring a mat\, dress in loose fitting clothes an
 d join us.
DTSTART;TZID=America/New_York:20260311T100000
DTEND;TZID=America/New_York:20260311T110000
LOCATION:520 East CR 44\, Eustis\, FL 32736-2518 US
SUMMARY:Chair Yoga
END:VEVENT
END:VCALENDAR
