BEGIN:VCALENDAR
VERSION:2.0
PRODID:-//troutlakenaturecenter.com//NONSGML kigkonsult.se iCalcreator 2.30
 .10//
CALSCALE:GREGORIAN
METHOD:PUBLISH
UID:f73d0fdd-46f3-4f18-8152-3bebb04b1809
X-WR-CALDESC:Have you ever asked yourself when is a turtle a tortoise or wh
 en is a tortoise a turtle? Get the answer to this question at this present
 ation about Gopher Tortoises. Tripod is a 3-legged turtle because in the p
 ast he became tangled in litter. The litter wrapped around his leg\, it be
 came infected and had to be amputated. \nGopher tortoises are a Florida ic
 onic and keystone species with over 365 other species depending on gopher 
 tortoise burrows. TLNC has an ambassador tortoise—Tripod which can be seen
  in the turtle habitat outside the education building. Learn about the dan
 gers faced by this turtle.\n\n     No reservation is required to attend bu
 t non-TLNC members are required to pay a $5/vehicle entry fee.\n
X-WR-RELCALID:3663dab8bf1b743dbc5170a7eb63f4d1
X-WR-TIMEZONE:America/New_York
BEGIN:VTIMEZONE
TZID:America/New_York
BEGIN:STANDARD
TZNAME:EST
DTSTART:20251102T020000
TZOFFSETFROM:-0400
TZOFFSETTO:-0500
RDATE:20261101T020000
END:STANDARD
BEGIN:DAYLIGHT
TZNAME:EDT
DTSTART:20260308T020000
TZOFFSETFROM:-0500
TZOFFSETTO:-0400
RDATE:20270314T020000
END:DAYLIGHT
END:VTIMEZONE
BEGIN:VEVENT
UID:dddfebf9-6646-49bd-b9fa-a2219a353e19
DTSTAMP:20260423T015820Z
DESCRIPTION:Have you ever asked yourself when is a turtle a tortoise or whe
 n is a tortoise a turtle? Get the answer to this question at this presenta
 tion about Gopher Tortoises. Tripod is a 3-legged turtle because in the pa
 st he became tangled in litter. The litter wrapped around his leg\, it bec
 ame infected and had to be amputated. \nGopher tortoises are a Florida ico
 nic and keystone species with over 365 other species depending on gopher t
 ortoise burrows. TLNC has an ambassador tortoise—Tripod which can be seen 
 in the turtle habitat outside the education building. Learn about the dang
 ers faced by this turtle.\n\n     No reservation is required to attend but
  non-TLNC members are required to pay a $5/vehicle entry fee.\n
DTSTART;TZID=America/New_York:20260314T133000
DTEND;TZID=America/New_York:20260314T133000
LOCATION:520 CR 44\, Eustis\, FL 32736 US
SUMMARY:Naturalist Program: Come Meet Tripod Trout Lake Nature Center's Gop
 her Tortoise
END:VEVENT
END:VCALENDAR
