BEGIN:VCALENDAR
VERSION:2.0
PRODID:-//troutlakenaturecenter.com//NONSGML kigkonsult.se iCalcreator 2.30
 .10//
CALSCALE:GREGORIAN
METHOD:PUBLISH
UID:5d7e586f-87b3-4a46-95b3-7eb3f0422c2f
X-WR-CALDESC:Nothing is cuter than a spotted fawn. Join expert artist and i
 nstructor Ellen Westerholm as she guides you through painting your own faw
 n. Because of the topic and details required\, this class is 3 hours inste
 ad of the normal 2 hours. Cost is $60/person. This class is for adults.
X-WR-RELCALID:c71b08ee8f5d762fa25a403cc612ae07
X-WR-TIMEZONE:America/New_York
BEGIN:VTIMEZONE
TZID:America/New_York
BEGIN:STANDARD
TZNAME:EST
DTSTART:20251102T020000
TZOFFSETFROM:-0400
TZOFFSETTO:-0500
RDATE:20261101T020000
END:STANDARD
BEGIN:DAYLIGHT
TZNAME:EDT
DTSTART:20260308T020000
TZOFFSETFROM:-0500
TZOFFSETTO:-0400
RDATE:20270314T020000
END:DAYLIGHT
END:VTIMEZONE
BEGIN:VEVENT
UID:7f81acc1-2e40-47b8-999d-9888c0215d78
DTSTAMP:20260423T020258Z
DESCRIPTION:Nothing is cuter than a spotted fawn. Join expert artist and in
 structor Ellen Westerholm as she guides you through painting your own fawn
 . Because of the topic and details required\, this class is 3 hours instea
 d of the normal 2 hours. Cost is $60/person. This class is for adults.
DTSTART;TZID=America/New_York:20260318T130000
DTEND;TZID=America/New_York:20260318T160000
LOCATION:520 CR 44\, Eustis\, FL 32736 US
SUMMARY:Inspired by Nature Water Color Painting--Spotted Fawn
END:VEVENT
END:VCALENDAR
