BEGIN:VCALENDAR
VERSION:2.0
PRODID:-//troutlakenaturecenter.com//NONSGML kigkonsult.se iCalcreator 2.30
 .10//
CALSCALE:GREGORIAN
METHOD:PUBLISH
UID:b83bb0d6-3c14-44b7-a811-d8ff294348bb
X-WR-CALDESC:This group of volunteers provides overall direction to this in
 dependent nonprofit. New volunteers are encouraged to attend or inquire at
  (352) 357-7536.
X-WR-RELCALID:e77d9173c2000a7354fcb87cef4a2d5b
X-WR-TIMEZONE:America/New_York
BEGIN:VTIMEZONE
TZID:America/New_York
BEGIN:STANDARD
TZNAME:EST
DTSTART:20251102T020000
TZOFFSETFROM:-0400
TZOFFSETTO:-0500
RDATE:20261101T020000
END:STANDARD
BEGIN:DAYLIGHT
TZNAME:EDT
DTSTART:20260308T020000
TZOFFSETFROM:-0500
TZOFFSETTO:-0400
RDATE:20270314T020000
END:DAYLIGHT
END:VTIMEZONE
BEGIN:VEVENT
UID:819a2bb1-5ccf-44ae-a1be-7b98b1ea90fc
DTSTAMP:20260423T015906Z
DESCRIPTION:This group of volunteers provides overall direction to this ind
 ependent nonprofit. New volunteers are encouraged to attend or inquire at 
 (352) 357-7536.
DTSTART;TZID=America/New_York:20260323T173000
DTEND;TZID=America/New_York:20260323T183000
LOCATION:
SUMMARY:TLNC BOARD MEETING
END:VEVENT
END:VCALENDAR
