BEGIN:VCALENDAR
VERSION:2.0
PRODID:-//troutlakenaturecenter.com//NONSGML kigkonsult.se iCalcreator 2.30
 .10//
CALSCALE:GREGORIAN
METHOD:PUBLISH
UID:0171f363-0d3a-4f70-a380-135c2d7fed3b
X-WR-CALDESC:Schoolchildren will be on site for a field trip this day. TLNC
  is still open to the public while the school is on-site\, however\, stude
 nts may be using the buildings and on the trails. Please call (352) 357-75
 36 if you need more information.
X-WR-RELCALID:1b3019809692f2de68996830c987636e
X-WR-TIMEZONE:America/New_York
BEGIN:VTIMEZONE
TZID:America/New_York
BEGIN:STANDARD
TZNAME:EST
DTSTART:20251102T020000
TZOFFSETFROM:-0400
TZOFFSETTO:-0500
RDATE:20261101T020000
END:STANDARD
BEGIN:DAYLIGHT
TZNAME:EDT
DTSTART:20260308T020000
TZOFFSETFROM:-0500
TZOFFSETTO:-0400
RDATE:20270314T020000
END:DAYLIGHT
END:VTIMEZONE
BEGIN:VEVENT
UID:2130bade-fd00-4b51-b651-c9506bd69cd2
DTSTAMP:20260423T003503Z
DESCRIPTION:Schoolchildren will be on site for a field trip this day. TLNC 
 is still open to the public while the school is on-site\, however\, studen
 ts may be using the buildings and on the trails. Please call (352) 357-753
 6 if you need more information.
DTSTART;TZID=America/New_York:20260414T093000
DTEND;TZID=America/New_York:20260414T133000
LOCATION:520 East CR 44\, Eustis\, FL 32736 US
SUMMARY:School Field Trip
END:VEVENT
END:VCALENDAR
