BEGIN:VCALENDAR
VERSION:2.0
PRODID:-//troutlakenaturecenter.com//NONSGML kigkonsult.se iCalcreator 2.30
 .10//
CALSCALE:GREGORIAN
METHOD:PUBLISH
UID:eb8272a0-0b70-4e04-9d17-2ae7c5790d31
X-WR-CALDESC:Folk Music Third Saturdays Concert. $7 at the door. The potluc
 k will begin at 7 PM with music at 7:30. Bring a covered dish for the potl
 uck.
X-WR-RELCALID:93691e43ff26751146b8fb87d3326d97
X-WR-TIMEZONE:America/New_York
BEGIN:VTIMEZONE
TZID:America/New_York
BEGIN:STANDARD
TZNAME:EST
DTSTART:20251102T020000
TZOFFSETFROM:-0400
TZOFFSETTO:-0500
RDATE:20261101T020000
END:STANDARD
BEGIN:DAYLIGHT
TZNAME:EDT
DTSTART:20260308T020000
TZOFFSETFROM:-0500
TZOFFSETTO:-0400
RDATE:20270314T020000
END:DAYLIGHT
END:VTIMEZONE
BEGIN:VEVENT
UID:ff95270c-98b3-4411-9825-9f3e42316bc4
DTSTAMP:20260423T003810Z
DESCRIPTION:Folk Music Third Saturdays Concert. $7 at the door. The potluck
  will begin at 7 PM with music at 7:30. Bring a covered dish for the potlu
 ck.
DTSTART;TZID=America/New_York:20260418T190000
DTEND;TZID=America/New_York:20260418T213000
LOCATION:520 East CR 44\, Eustis\, FL 32736 US
SUMMARY:FOLK MUSIC CONCERT
END:VEVENT
END:VCALENDAR
