BEGIN:VCALENDAR
VERSION:2.0
PRODID:-//troutlakenaturecenter.com//NONSGML kigkonsult.se iCalcreator 2.30
 .10//
CALSCALE:GREGORIAN
METHOD:PUBLISH
UID:3e351847-6cff-4e95-97b6-65c61e53d840
X-WR-CALDESC:Last Saturday of the month.\n     Has your dog been waiting fo
 r cooler weather to join its canine friends for a walk in the woods and a 
 little socialization? Join our Pack Walks. All dogs must be well-behaved\,
  on a 6’ non-retractable lead\, and friendly with other dogs and people. T
 he dog’s person is responsible for picking up and disposing of any deposit
 s left by their dog
X-WR-RELCALID:26a03c1432a1b443890fa11f04dcc20a
X-WR-TIMEZONE:America/New_York
BEGIN:VTIMEZONE
TZID:America/New_York
BEGIN:STANDARD
TZNAME:EST
DTSTART:20251102T020000
TZOFFSETFROM:-0400
TZOFFSETTO:-0500
RDATE:20261101T020000
END:STANDARD
BEGIN:DAYLIGHT
TZNAME:EDT
DTSTART:20260308T020000
TZOFFSETFROM:-0500
TZOFFSETTO:-0400
RDATE:20270314T020000
END:DAYLIGHT
END:VTIMEZONE
BEGIN:VEVENT
UID:fae43489-4585-417a-ab3d-0e1d0b88d9af
DTSTAMP:20260423T003442Z
DESCRIPTION:Last Saturday of the month.\n     Has your dog been waiting for
  cooler weather to join its canine friends for a walk in the woods and a l
 ittle socialization? Join our Pack Walks. All dogs must be well-behaved\, 
 on a 6’ non-retractable lead\, and friendly with other dogs and people. Th
 e dog’s person is responsible for picking up and disposing of any deposits
  left by their dog
DTSTART;TZID=America/New_York:20260426T013000
DTEND;TZID=America/New_York:20260426T023000
LOCATION:520 E. County Road 44\, Eustis\, FL 32736 US
SUMMARY:Pack Walk  - Depending on Weather
END:VEVENT
END:VCALENDAR
