BEGIN:VCALENDAR
VERSION:2.0
PRODID:-//troutlakenaturecenter.com//NONSGML kigkonsult.se iCalcreator 2.30
 .10//
CALSCALE:GREGORIAN
METHOD:PUBLISH
UID:b1d0670f-9b59-479f-9ab1-6043450d24d2
X-WR-CALDESC:Schoolchildren will be on site for a field trip this day. TLNC
  is still open to the public while the school is on-site\, however\, stude
 nts may be using the buildings and on the trails. Please call (352) 357-75
 36 if you need more information.
X-WR-RELCALID:ac84c415f82193ebba48373c84d2c8f8
X-WR-TIMEZONE:America/New_York
BEGIN:VTIMEZONE
TZID:America/New_York
BEGIN:STANDARD
TZNAME:EST
DTSTART:20251102T020000
TZOFFSETFROM:-0400
TZOFFSETTO:-0500
RDATE:20261101T020000
RDATE:20271107T020000
END:STANDARD
BEGIN:DAYLIGHT
TZNAME:EDT
DTSTART:20260308T020000
TZOFFSETFROM:-0500
TZOFFSETTO:-0400
RDATE:20270314T020000
END:DAYLIGHT
END:VTIMEZONE
BEGIN:VEVENT
UID:9088db47-8e50-487e-9178-b25982a74a31
DTSTAMP:20260422T203605Z
DESCRIPTION:Schoolchildren will be on site for a field trip this day. TLNC 
 is still open to the public while the school is on-site\, however\, studen
 ts may be using the buildings and on the trails. Please call (352) 357-753
 6 if you need more information.
DTSTART;TZID=America/New_York:20260508T093000
DTEND;TZID=America/New_York:20260508T133000
LOCATION:520 East CR 44\, Eustis
SUMMARY:School Field Trip
END:VEVENT
END:VCALENDAR
